BEGIN:VCALENDAR
VERSION:2.0
PRODID:spatie/icalendar-generator
DESCRIPTION:Veranstaltungen von Mennonitengemeinde Karlsruhe-Thomashof
X-WR-CALDESC:Veranstaltungen von Mennonitengemeinde Karlsruhe-Thomashof
REFRESH-INTERVAL;VALUE=DURATION:PT1440M
X-PUBLISHED-TTL:PT1440M
BEGIN:VTIMEZONE
TZID:Europe/Berlin
BEGIN:STANDARD
DTSTART:20251026T030000Z
TZOFFSETFROM:+0200
TZOFFSETTO:+0100
END:STANDARD
BEGIN:DAYLIGHT
DTSTART:20260329T020000Z
TZOFFSETFROM:+0100
TZOFFSETTO:+0200
END:DAYLIGHT
END:VTIMEZONE
BEGIN:VTIMEZONE
TZID:UTC
BEGIN:STANDARD
DTSTART:20250724T085651Z
TZOFFSETFROM:+0000
TZOFFSETTO:+0000
END:STANDARD
END:VTIMEZONE
BEGIN:VEVENT
UID:57-50
DTSTAMP:20260420T085651Z
SUMMARY:Gemeindeversammlung
LOCATION:
ORGANIZER;CN=mgktwpadmin:MAILTO:daniel@kaercher-family.de
DTSTART;TZID=Europe/Berlin:20260322T101000
DTEND;TZID=Europe/Berlin:20260322T111000
X-ALT-DESC;FMTTYPE=TEXT/HTML:
CATEGORIES:General
URL;VALUE=URI:https://mennoniten-karlsruhe.de/mc-events/gemeindeversammlung
 /
METHOD:PUBLISH
END:VEVENT
END:VCALENDAR